BEGIN:VCALENDAR
VERSION:2.0
PRODID:-//Chemwise - ECPv6.6.4.2//NONSGML v1.0//EN
CALSCALE:GREGORIAN
METHOD:PUBLISH
X-ORIGINAL-URL:https://chemwise.org
X-WR-CALDESC:Events for Chemwise
REFRESH-INTERVAL;VALUE=DURATION:PT1H
X-Robots-Tag:noindex
X-PUBLISHED-TTL:PT1H
BEGIN:VTIMEZONE
TZID:UTC
BEGIN:STANDARD
TZOFFSETFROM:+0000
TZOFFSETTO:+0000
TZNAME:UTC
DTSTART:20270101T000000
END:STANDARD
END:VTIMEZONE
BEGIN:VEVENT
DTSTART;TZID=UTC:20270630T000000
DTEND;TZID=UTC:22170630T230000
DTSTAMP:20260421T083727
CREATED:20180203T062104Z
LAST-MODIFIED:20220511T000336Z
UID:1417-1814313600-7810210800@chemwise.org
SUMMARY:EXAMPLE LOCATION 2
DESCRIPTION:
URL:https://chemwise.org/single-partner/example-location-2/
LOCATION:Venue 1\, Govind Marg\, Raja Park\, Adarsh Nagar\, Jaipur\, rajasthan\, 302004\, India
ORGANIZER;CN="Example Location":MAILTO:contact@chemwise.org
END:VEVENT
BEGIN:VEVENT
DTSTART;TZID=UTC:20270630T000000
DTEND;TZID=UTC:22170630T230000
DTSTAMP:20260421T083727
CREATED:20220507T115713Z
LAST-MODIFIED:20220507T115713Z
UID:1573-1814313600-7810210800@chemwise.org
SUMMARY:
DESCRIPTION:
URL:https://chemwise.org/single-partner/1573/
LOCATION:Venue\, 10th Mile\, Ajmer Express Highway\, Jaipur\, rajasthan\, 302026\, India
END:VEVENT
BEGIN:VEVENT
DTSTART;TZID=UTC:20270630T000000
DTEND;TZID=UTC:22170630T230000
DTSTAMP:20260421T083728
CREATED:20220507T140507Z
LAST-MODIFIED:20220507T140507Z
UID:1575-1814313600-7810210800@chemwise.org
SUMMARY:
DESCRIPTION:
URL:https://chemwise.org/single-partner/1575/
LOCATION:venue7\, Ajmeri Gate\, Ramniwas Bag\, Jaipur\, rajasthan\, 302004\, India
END:VEVENT
END:VCALENDAR