BEGIN:VCALENDAR
VERSION:2.0
PRODID:-//Chemwise - ECPv6.6.4.2//NONSGML v1.0//EN
CALSCALE:GREGORIAN
METHOD:PUBLISH
X-WR-CALNAME:Chemwise
X-ORIGINAL-URL:https://chemwise.org
X-WR-CALDESC:Events for Chemwise
REFRESH-INTERVAL;VALUE=DURATION:PT1H
X-Robots-Tag:noindex
X-PUBLISHED-TTL:PT1H
BEGIN:VTIMEZONE
TZID:UTC
BEGIN:STANDARD
TZOFFSETFROM:+0000
TZOFFSETTO:+0000
TZNAME:UTC
DTSTART:20270101T000000
END:STANDARD
END:VTIMEZONE
BEGIN:VEVENT
DTSTART;TZID=UTC:20270630T000000
DTEND;TZID=UTC:20270630T000000
DTSTAMP:20260421T083200
CREATED:20180203T061803Z
LAST-MODIFIED:20180203T062320Z
UID:1411-1814313600-1814313600@chemwise.org
SUMMARY:EXAMPLE LOCATION
DESCRIPTION:
URL:https://chemwise.org/single-partner/example-location/
LOCATION:CHEMWISE\, 1752 Romick Pkwy\, Findlay\, OH\, 45840
ORGANIZER;CN="Example Location":MAILTO:contact@chemwise.org
END:VEVENT
END:VCALENDAR